BEGIN:VCALENDAR
VERSION:2.0
PRODID:-//Rutgers Health Faculty Affairs - ECPv6.15.16//NONSGML v1.0//EN
CALSCALE:GREGORIAN
METHOD:PUBLISH
X-ORIGINAL-URL:https://facultyaffairs.rbhs.rutgers.edu
X-WR-CALDESC:Events for Rutgers Health Faculty Affairs
REFRESH-INTERVAL;VALUE=DURATION:PT1H
X-Robots-Tag:noindex
X-PUBLISHED-TTL:PT1H
BEGIN:VTIMEZONE
TZID:UTC
BEGIN:STANDARD
TZOFFSETFROM:+0000
TZOFFSETTO:+0000
TZNAME:UTC
DTSTART:20190101T000000
END:STANDARD
END:VTIMEZONE
BEGIN:VEVENT
DTSTART;TZID=UTC:20201019T120000
DTEND;TZID=UTC:20201019T130000
DTSTAMP:20260421T122539
CREATED:20201019T164922Z
LAST-MODIFIED:20201019T165139Z
UID:12274-1603108800-1603112400@facultyaffairs.rbhs.rutgers.edu
SUMMARY:CHINJ Science Seminar - Beatrice Haimovich\, PhD - Speaker
DESCRIPTION:Guest Speaker\n   Beatrice Haimovich\, PhD\, Associate Professor\nDepartment of Surgery\, RWJMS\n   Title: “mTORC1 Promotes Whereas mTORC2 Inhibits TLR4 Signaling in Human Leukocytes: How this relationship might keep us healthy.”\nSee the announcement for more information.
URL:https://facultyaffairs.rbhs.rutgers.edu/event/chinj-science-seminar-beatrice-haimovich-phd-speaker/
CATEGORIES:Research
END:VEVENT
END:VCALENDAR