BEGIN:VCALENDAR
VERSION:2.0
PRODID:-//Rutgers Health Faculty Affairs - ECPv6.15.16//NONSGML v1.0//EN
CALSCALE:GREGORIAN
METHOD:PUBLISH
X-ORIGINAL-URL:https://facultyaffairs.rbhs.rutgers.edu
X-WR-CALDESC:Events for Rutgers Health Faculty Affairs
REFRESH-INTERVAL;VALUE=DURATION:PT1H
X-Robots-Tag:noindex
X-PUBLISHED-TTL:PT1H
BEGIN:VTIMEZONE
TZID:UTC
BEGIN:STANDARD
TZOFFSETFROM:+0000
TZOFFSETTO:+0000
TZNAME:UTC
DTSTART:20190101T000000
END:STANDARD
END:VTIMEZONE
BEGIN:VEVENT
DTSTART;TZID=UTC:20201106T073000
DTEND;TZID=UTC:20201106T160000
DTSTAMP:20260420T133549
CREATED:20201027T152823Z
LAST-MODIFIED:20201027T153012Z
UID:12325-1604647800-1604678400@facultyaffairs.rbhs.rutgers.edu
SUMMARY:2nd Annual Stroke and Neurocritical Care Symposium: Advanced Management for Neurological and Neurosurgical Emergencies and Critical Care: Neuro-Emergencies During the Pandemic
DESCRIPTION:2nd Annual Stroke and Neurocritical Care Symposium: Advanced Management for Neurological and Neurosurgical Emergencies and Critical Care: Neuro-Emergencies During the Pandemic\nThis symposium will provide physicians and allied healthcare professionals with a comprehensive overview of the cutting-edge management for cerebrovascular diseases and neurocritical care.\nFor more information\, see the announcement and visit https://rutgers.cloud-cme.com/2020SNCCSymposium \nQuestions? Contact the Center for Continuing and Outreach Education at ccoe@rbhs.rutgers.edu.
URL:https://facultyaffairs.rbhs.rutgers.edu/event/2nd-annual-stroke-and-neurocritical-care-symposium-advanced-management-for-neurological-and-neurosurgical-emergencies-and-critical-care-neuro-emergencies-during-the-pandemic/
CATEGORIES:Research
END:VEVENT
END:VCALENDAR