BEGIN:VCALENDAR
VERSION:2.0
PRODID:-//Rutgers Health Faculty Affairs - ECPv6.15.16//NONSGML v1.0//EN
CALSCALE:GREGORIAN
METHOD:PUBLISH
X-ORIGINAL-URL:https://facultyaffairs.rbhs.rutgers.edu
X-WR-CALDESC:Events for Rutgers Health Faculty Affairs
REFRESH-INTERVAL;VALUE=DURATION:PT1H
X-Robots-Tag:noindex
X-PUBLISHED-TTL:PT1H
BEGIN:VTIMEZONE
TZID:UTC
BEGIN:STANDARD
TZOFFSETFROM:+0000
TZOFFSETTO:+0000
TZNAME:UTC
DTSTART:20190101T000000
END:STANDARD
END:VTIMEZONE
BEGIN:VEVENT
DTSTART;TZID=UTC:20201110T120000
DTEND;TZID=UTC:20201110T133000
DTSTAMP:20260421T042510
CREATED:20201021T194551Z
LAST-MODIFIED:20201021T195349Z
UID:12291-1605009600-1605015000@facultyaffairs.rbhs.rutgers.edu
SUMMARY:RBHS Strategic Plan Steering Committee Town Hall
DESCRIPTION:The RBHS Strategic Plan Steering Committee is holding two upcoming virtual town hall events. We will provide a brief overview of our approach\, our timeline and progress thus far\, and will provide an opportunity to answer your questions and to solicit your input.\nhttps://rutgers.zoom.us/j/94501598747?pwd=VDFxWFFlekNWSVlzZjBNVkdxYmNCdz09\n Webinar ID: 945 0159 8747\n   Passcode: 554804\nWe would very much welcome and appreciate if you would submit questions or comments related to the RBHS strategic plan in advance\, using the link below\, but we will also reserve time for live questions at the town halls. The link provided below is designed so that your question or comment will remain anonymous unless you elect to identify yourself.\nPlease submit questions here:\nhttps://rutgers.ca1.qualtrics.com/jfe/form/SV_3aUf1wMwvK9SxHD\nIf you cannot attend one of these dates you will have access to the recording of the town hall events via the RBHS Strategic Planning website.\nWe look forward to your participation at one of the virtual town hall events and encourage you to submit your questions or comments as soon as possible.
URL:https://facultyaffairs.rbhs.rutgers.edu/event/rbhs-strategic-plan-steering-committee-town-hall/
ORGANIZER;CN="Academic Affairs and Research":MAILTO:ase49@rbhs.rutgers.edu
END:VEVENT
BEGIN:VEVENT
DTSTART;TZID=UTC:20201110T131500
DTEND;TZID=UTC:20201110T131500
DTSTAMP:20260421T042510
CREATED:20201103T150137Z
LAST-MODIFIED:20201109T160704Z
UID:12348-1605014100-1605014100@facultyaffairs.rbhs.rutgers.edu
SUMMARY:RSDM Research Seminar
DESCRIPTION:RSDM is presenting a research seminar by Carmem S. Pfeifer\, DDS\, PhD\n“Current Challenges and New Developments in\nRestorative Materials”\nSee the announcement and contact Joseph Legaspi for more information at  jl2245@sdm.rutgers.edu
URL:https://facultyaffairs.rbhs.rutgers.edu/event/rsdm-research-seminar/
CATEGORIES:Research
END:VEVENT
END:VCALENDAR