BEGIN:VCALENDAR
VERSION:2.0
PRODID:-//Rutgers Health Faculty Affairs - ECPv6.15.16//NONSGML v1.0//EN
CALSCALE:GREGORIAN
METHOD:PUBLISH
X-ORIGINAL-URL:https://facultyaffairs.rbhs.rutgers.edu
X-WR-CALDESC:Events for Rutgers Health Faculty Affairs
REFRESH-INTERVAL;VALUE=DURATION:PT1H
X-Robots-Tag:noindex
X-PUBLISHED-TTL:PT1H
BEGIN:VTIMEZONE
TZID:UTC
BEGIN:STANDARD
TZOFFSETFROM:+0000
TZOFFSETTO:+0000
TZNAME:UTC
DTSTART:20210101T000000
END:STANDARD
END:VTIMEZONE
BEGIN:VEVENT
DTSTART;TZID=UTC:20221114T080000
DTEND;TZID=UTC:20221114T120000
DTSTAMP:20260421T023320
CREATED:20221012T134817Z
LAST-MODIFIED:20221012T134817Z
UID:15407-1668412800-1668427200@facultyaffairs.rbhs.rutgers.edu
SUMMARY:4 Pillars of Successful Mentorship
DESCRIPTION:
URL:https://facultyaffairs.rbhs.rutgers.edu/event/4-pillars-of-successful-mentorship-2/
LOCATION:Busch Student Center\, 604 Bartholomew Road\, Piscataway\, NJ\, 08854\, United States
CATEGORIES:Faculty Development
ORGANIZER;CN="Vice Chancellor for Faculty Development":MAILTO:vcfd@rbhs.rutgers.edu
END:VEVENT
END:VCALENDAR