BEGIN:VCALENDAR
VERSION:2.0
PRODID:-//Rutgers Health Faculty Affairs - ECPv6.15.16//NONSGML v1.0//EN
CALSCALE:GREGORIAN
METHOD:PUBLISH
X-WR-CALNAME:Rutgers Health Faculty Affairs
X-ORIGINAL-URL:https://facultyaffairs.rbhs.rutgers.edu
X-WR-CALDESC:Events for Rutgers Health Faculty Affairs
REFRESH-INTERVAL;VALUE=DURATION:PT1H
X-Robots-Tag:noindex
X-PUBLISHED-TTL:PT1H
BEGIN:VTIMEZONE
TZID:UTC
BEGIN:STANDARD
TZOFFSETFROM:+0000
TZOFFSETTO:+0000
TZNAME:UTC
DTSTART:20220101T000000
END:STANDARD
END:VTIMEZONE
BEGIN:VEVENT
DTSTART;TZID=UTC:20230913T120000
DTEND;TZID=UTC:20230913T140000
DTSTAMP:20260426T031157
CREATED:20230928T143459Z
LAST-MODIFIED:20230928T143459Z
UID:16617-1694606400-1694613600@facultyaffairs.rbhs.rutgers.edu
SUMMARY:AEM Program Celebratory Luncheon
DESCRIPTION:**Event Details:** \nDate: September 13th\, 2023 \nTime: 12:00 PM – 2:00 PM \nLocation: College Avenue Student Center\, Room 411 ABC\, 125 College Avenue\, New Brunswick\, NJ 08901
URL:https://facultyaffairs.rbhs.rutgers.edu/event/aem-program-celebratory-luncheon/
LOCATION:College Avenue Student Center\, Room 411 ABC\, 125 College Avenue\, New Brunswick\, NJ 08901\, College Avenue Student Center\, Room 411 ABC\, 125 College Avenue\, New Brunswick\, NJ\, 08901\, United States
ORGANIZER;CN="Vice Chancellor for Diversity and Inclusion":MAILTO:vcdi@rbhs.rutgers.edu
END:VEVENT
END:VCALENDAR