BEGIN:VCALENDAR
VERSION:2.0
PRODID:-//Rutgers Health Faculty Affairs - ECPv6.15.16//NONSGML v1.0//EN
CALSCALE:GREGORIAN
METHOD:PUBLISH
X-ORIGINAL-URL:https://facultyaffairs.rbhs.rutgers.edu
X-WR-CALDESC:Events for Rutgers Health Faculty Affairs
REFRESH-INTERVAL;VALUE=DURATION:PT1H
X-Robots-Tag:noindex
X-PUBLISHED-TTL:PT1H
BEGIN:VTIMEZONE
TZID:UTC
BEGIN:STANDARD
TZOFFSETFROM:+0000
TZOFFSETTO:+0000
TZNAME:UTC
DTSTART:20220101T000000
END:STANDARD
END:VTIMEZONE
BEGIN:VEVENT
DTSTART;TZID=UTC:20231101T150000
DTEND;TZID=UTC:20231101T170000
DTSTAMP:20260421T140049
CREATED:20231107T164719Z
LAST-MODIFIED:20231107T164733Z
UID:16823-1698850800-1698858000@facultyaffairs.rbhs.rutgers.edu
SUMMARY:Cultural Humility and a Multicultural Reception
DESCRIPTION:We are excited to invite you to a thought-provoking conversation on Cultural Humility and a Multicultural Reception. \n \nAgenda: \n\nIntroduction to the Rutgers Health Office of Diversity and Inclusion\nParticipant Introductions\nCultural Humility Conversation with Dr. Robin Eubanks\nQ&A Session\nClosing Remarks by Dr. Maria Soto-Greene\nMulticultural Reception & Networking\n\nEvent Details:\nDate: November 1st\, 2023\nTime: 3:00 PM – 5:00 PM\nLocation: NJMS Rosemary Gellene Room\, 185 S. Orange Avenue\, Newark \nRegistration Link \nhttps://facultyaffairs.rbhs.rutgers.edu/wp-content/uploads/Cultural-Humility-Multicultural-Event-_.pdf \n 
URL:https://facultyaffairs.rbhs.rutgers.edu/event/cultural-humility-and-a-multicultural-reception/
ORGANIZER;CN="Vice Chancellor for Diversity and Inclusion":MAILTO:vcdi@rbhs.rutgers.edu
END:VEVENT
END:VCALENDAR