BEGIN:VCALENDAR
VERSION:2.0
PRODID:-//Rutgers Health Faculty Affairs - ECPv6.15.16//NONSGML v1.0//EN
CALSCALE:GREGORIAN
METHOD:PUBLISH
X-ORIGINAL-URL:https://facultyaffairs.rbhs.rutgers.edu
X-WR-CALDESC:Events for Rutgers Health Faculty Affairs
REFRESH-INTERVAL;VALUE=DURATION:PT1H
X-Robots-Tag:noindex
X-PUBLISHED-TTL:PT1H
BEGIN:VTIMEZONE
TZID:UTC
BEGIN:STANDARD
TZOFFSETFROM:+0000
TZOFFSETTO:+0000
TZNAME:UTC
DTSTART:20230101T000000
END:STANDARD
END:VTIMEZONE
BEGIN:VEVENT
DTSTART;TZID=UTC:20241029T123000
DTEND;TZID=UTC:20241029T144500
DTSTAMP:20260420T020043
CREATED:20241007T165408Z
LAST-MODIFIED:20241007T165443Z
UID:17577-1730205000-1730213100@facultyaffairs.rbhs.rutgers.edu
SUMMARY:Rutgers Health Equity Progress Showcase
DESCRIPTION:Registration Link: https://forms.office.com/r/cSzBiHXnzy
URL:https://facultyaffairs.rbhs.rutgers.edu/event/rutgers-health-equity-progress-showcase/
ORGANIZER;CN="Vice Chancellor for Diversity and Inclusion":MAILTO:vcdi@rbhs.rutgers.edu
END:VEVENT
END:VCALENDAR