BEGIN:VCALENDAR
VERSION:2.0
PRODID:-//Rutgers Health Faculty Affairs - ECPv6.15.16//NONSGML v1.0//EN
CALSCALE:GREGORIAN
METHOD:PUBLISH
X-ORIGINAL-URL:https://facultyaffairs.rbhs.rutgers.edu
X-WR-CALDESC:Events for Rutgers Health Faculty Affairs
REFRESH-INTERVAL;VALUE=DURATION:PT1H
X-Robots-Tag:noindex
X-PUBLISHED-TTL:PT1H
BEGIN:VTIMEZONE
TZID:UTC
BEGIN:STANDARD
TZOFFSETFROM:+0000
TZOFFSETTO:+0000
TZNAME:UTC
DTSTART:20240101T000000
END:STANDARD
END:VTIMEZONE
BEGIN:VEVENT
DTSTART;TZID=UTC:20250416T103000
DTEND;TZID=UTC:20250416T140000
DTSTAMP:20260421T130631
CREATED:20250319T190229Z
LAST-MODIFIED:20250319T190229Z
UID:17994-1744799400-1744812000@facultyaffairs.rbhs.rutgers.edu
SUMMARY:Rutgers Health I.D.E.A.s Symposium
DESCRIPTION:Join us to the Rutgers Health I.D.E.A.s Symposium on April 16th from 10:30 AM to 2:00 PM (Virtual Event). This symposium will highlight impactful work within our community\, featuring a keynote address and presentations from IDEA Grant recipients. \nAgenda \n🔹 10:30 AM– Opening Remarks – Dr. Brian L. Strom\, Chancellor\, Rutgers Health \n🔹 10:40 AM– Keynote: Linda Villarosa\, Public Health Reporter\, Journalist\, Contributing Writer for The New York Times Magazine\, and Author of the bestseller book Under The Skin \n🔹 11:40 AM– Lunch Break (on your own) \n🔹 12:00 PM – 2:00 PM – Rutgers Health IDEA Grant Presentations\, Moderated by Dr. Sangeeta Lamba
URL:https://facultyaffairs.rbhs.rutgers.edu/event/rutgers-health-i-d-e-a-s-symposium/
ORGANIZER;CN="Vice Chancellor for Diversity and Inclusion":MAILTO:vcdi@rbhs.rutgers.edu
END:VEVENT
END:VCALENDAR